BEGIN:VCALENDAR
VERSION:2.0
PRODID:-//eventon.com NONSGML v1.0//EN
CALSCALE:GREGORIAN
METHOD:PUBLISH
BEGIN:VEVENT
UID:69e4d0723feef
DTSTAMP:20260419T125410Z
DTSTART:20220625T051600Z
DTEND:20220627T051600Z
LOCATION:
SUMMARY:Michigan State Championship
DESCRIPTION:Sturgis\,  MI\nhttps://mysasp.com/events/michigan-state-champio
 nship-2/
URL:https://mysasp.com/events/michigan-state-championship-2/
END:VEVENT
END:VCALENDAR