BEGIN:VCALENDAR
VERSION:2.0
PRODID:-//eventon.com NONSGML v1.0//EN
CALSCALE:GREGORIAN
METHOD:PUBLISH
BEGIN:VEVENT
UID:69e8c09956119
DTSTAMP:20260422T123537Z
DTSTART:20220617
DTEND:20220618
LOCATION:Williamson County 4H Shooting Range
SUMMARY:Georgetown Regional (TX)
DESCRIPTION:Georgetown Regional (TX)\nhttps://mysasp.com/events/georgetown-
 regional-tx/
URL:https://mysasp.com/events/georgetown-regional-tx/
END:VEVENT
END:VCALENDAR