BEGIN:VCALENDAR
VERSION:2.0
PRODID:-//eventon.com NONSGML v1.0//EN
CALSCALE:GREGORIAN
METHOD:PUBLISH
BEGIN:VEVENT
UID:69e8c0f2ee86b
DTSTAMP:20260422T123706Z
DTSTART:20230430
DTEND:20230501
LOCATION:
SUMMARY:Arizona State Match
DESCRIPTION:Match flyer\nhttps://mysasp.com/events/arizona-state-match/
URL:https://mysasp.com/events/arizona-state-match/
END:VEVENT
END:VCALENDAR