BEGIN:VCALENDAR
VERSION:2.0
PRODID:-//eventon.com NONSGML v1.0//EN
CALSCALE:GREGORIAN
METHOD:PUBLISH
BEGIN:VEVENT
UID:69e78d3ce1f8b
DTSTAMP:20260421T144412Z
DTSTART:20240320
DTEND:20240321
LOCATION:Fort Moore
SUMMARY:2024 Intercollegiate Pistol Nationals
DESCRIPTION:Matchbook: tinyurl.com/2024pistolprogram\nhttps://mysasp.com/ev
 ents/2024-intercollegiate-pistol-nationals/
URL:https://mysasp.com/events/2024-intercollegiate-pistol-nationals/
END:VEVENT
END:VCALENDAR