BEGIN:VCALENDAR
VERSION:2.0
PRODID:-//eventon.com NONSGML v1.0//EN
CALSCALE:GREGORIAN
METHOD:PUBLISH
BEGIN:VEVENT
UID:69e9e65f55f61
DTSTAMP:20260423T092903Z
DTSTART:20250801
DTEND:20250802
LOCATION:Missouri Marksmanship Education Center 5885 W Van Horn Tavern Rd
SUMMARY:2025 Progressive Position Pistol Junior National
DESCRIPTION:\nhttps://mysasp.com/events/2025-progressive-position-pistol-ju
 nior-national/
URL:https://mysasp.com/events/2025-progressive-position-pistol-junior-national/
END:VEVENT
END:VCALENDAR