BEGIN:VCALENDAR
VERSION:2.0
PRODID:-//eventon.com NONSGML v1.0//EN
CALSCALE:GREGORIAN
METHOD:PUBLISH
BEGIN:VEVENT
UID:69e7a2f9bb6ce
DTSTAMP:20260421T161657Z
DTSTART:20260807
DTEND:20260808
LOCATION:Saukville Rifle &amp; Pistol Club 4191 Blue Goose Rd
SUMMARY:Wisconsin Fall Regional
DESCRIPTION:\nhttps://mysasp.com/events/wisconsin-fall-regional/
URL:https://mysasp.com/events/wisconsin-fall-regional/
END:VEVENT
END:VCALENDAR