BEGIN:VCALENDAR
VERSION:2.0
PRODID:-//eventon.com NONSGML v1.0//EN
CALSCALE:GREGORIAN
METHOD:PUBLISH
BEGIN:VEVENT
UID:69e7a27cc4347
DTSTAMP:20260421T161452Z
DTSTART:20260508
DTEND:20260509
LOCATION:Saukville Rifle &amp; Pistol Club 4191 Blue Goose Rd
SUMMARY:Wisconsin Spring Regional
DESCRIPTION:\nhttps://mysasp.com/events/wisconsin-spring-regional-3/
URL:https://mysasp.com/events/wisconsin-spring-regional-3/
END:VEVENT
END:VCALENDAR