BEGIN:VCALENDAR
VERSION:2.0
PRODID:-//eventon.com NONSGML v1.0//EN
CALSCALE:GREGORIAN
METHOD:PUBLISH
BEGIN:VEVENT
UID:69e4e72c2ba4b
DTSTAMP:20260419T143108Z
DTSTART:20260117
DTEND:20260118
LOCATION:Central Florida Rifle &amp; Pistol Club 14646 Wewahootee Rd
SUMMARY:Florida State Championship
DESCRIPTION:Hotels upon request\,  please email match director if you need 
 help finding a suitable location. There will be no vendors on site; there a
 re plenty of restaurants/grocery stores close by.\nhttps://mysasp.com/event
 s/florida-state-championship-3/
URL:https://mysasp.com/events/florida-state-championship-3/
END:VEVENT
END:VCALENDAR