BEGIN:VCALENDAR
VERSION:2.0
PRODID:-//eventon.com NONSGML v1.0//EN
CALSCALE:GREGORIAN
METHOD:PUBLISH
BEGIN:VEVENT
UID:69e9e8880b5b2
DTSTAMP:20260423T093816Z
DTSTART:20260502T091400Z
DTEND:20260503T120000Z
LOCATION:Mill Creek Rifle Club 7215 Gardner Rd
SUMMARY:Midwest regional
DESCRIPTION:\nhttps://mysasp.com/events/midwest-regional-2/
URL:https://mysasp.com/events/midwest-regional-2/
END:VEVENT
END:VCALENDAR