BEGIN:VCALENDAR
VERSION:2.0
PRODID:-//eventon.com NONSGML v1.0//EN
CALSCALE:GREGORIAN
METHOD:PUBLISH
BEGIN:VEVENT
UID:69e9d66c69538
DTSTAMP:20260423T082100Z
DTSTART:20260612T140000Z
DTEND:20260612T220000Z
LOCATION:
SUMMARY:Tennessee State Match
DESCRIPTION:\nhttps://mysasp.com/events/tennessee-state-match-2/
URL:https://mysasp.com/events/tennessee-state-match-2/
END:VEVENT
END:VCALENDAR