BEGIN:VCALENDAR
VERSION:2.0
PRODID:-//eventon.com NONSGML v1.0//EN
CALSCALE:GREGORIAN
METHOD:PUBLISH
BEGIN:VEVENT
UID:69e7a265669e5
DTSTAMP:20260421T161429Z
DTSTART:20260517T090000Z
DTEND:20260517T170000Z
LOCATION:
SUMMARY:Massachusetts State Match
DESCRIPTION:\nhttps://mysasp.com/events/massachusetts-state-match/
URL:https://mysasp.com/events/massachusetts-state-match/
END:VEVENT
END:VCALENDAR