BEGIN:VCALENDAR
VERSION:2.0
PRODID:-//eventon.com NONSGML v1.0//EN
CALSCALE:GREGORIAN
METHOD:PUBLISH
BEGIN:VEVENT
UID:69e7a2b95461f
DTSTAMP:20260421T161553Z
DTSTART:20260516T090000Z
DTEND:20260516T170000Z
LOCATION:
SUMMARY:North Carolina State Match
DESCRIPTION:\nhttps://mysasp.com/events/north-carolina-state-match/
URL:https://mysasp.com/events/north-carolina-state-match/
END:VEVENT
END:VCALENDAR