BEGIN:VCALENDAR
VERSION:2.0
PRODID:-//eventon.com NONSGML v1.0//EN
CALSCALE:GREGORIAN
METHOD:PUBLISH
BEGIN:VEVENT
UID:69e9e6c66578f
DTSTAMP:20260423T093046Z
DTSTART:20260424T090000Z
DTEND:20260426T170000Z
LOCATION:
SUMMARY:Texas State Match
DESCRIPTION:\nhttps://mysasp.com/events/texas-state-match-2/
URL:https://mysasp.com/events/texas-state-match-2/
END:VEVENT
END:VCALENDAR